BEGIN:VCALENDAR
VERSION:2.0
PRODID:-//Silvia Rothbart - ECPv5.8.2//NONSGML v1.0//EN
CALSCALE:GREGORIAN
METHOD:PUBLISH
X-WR-CALNAME:Silvia Rothbart
X-ORIGINAL-URL:https://rothbart.at
X-WR-CALDESC:Veranstaltungen für Silvia Rothbart
BEGIN:VTIMEZONE
TZID:Europe/Berlin
BEGIN:DAYLIGHT
TZOFFSETFROM:+0100
TZOFFSETTO:+0200
TZNAME:CEST
DTSTART:20230326T010000
END:DAYLIGHT
BEGIN:STANDARD
TZOFFSETFROM:+0200
TZOFFSETTO:+0100
TZNAME:CET
DTSTART:20231029T010000
END:STANDARD
END:VTIMEZONE
BEGIN:VEVENT
DTSTART;TZID=Europe/Berlin:20231103T160000
DTEND;TZID=Europe/Berlin:20231104T170000
DTSTAMP:20260420T073010
CREATED:20230710T155511Z
LAST-MODIFIED:20230806T150533Z
UID:1315-1699027200-1699117200@rothbart.at
SUMMARY:Human Design Pädagogik Lehrgang - Modul 2
DESCRIPTION:Eine neue Dimension in der Pädagogik \nSei du die Veränderung\, die du dir für deine Kinder wünscht! \nRichtet sich an alle\, die mit Kindern und Jugendlichen leben und arbeiten und die Bereitschaft spüren neue Wege in der Pädagogik zu beschreiten\, die das Kind in seinen Stärken\, Wesenszügen und individuellem Lernpotential fördern und unterstützen. \nModul 2:\n03. November 2023 von 16:00-19:00\n04. November 2023 von 10:00-17:00 \n> Übersicht Lehrgang 2023/24\n> Inhalte und Infos Pädagogiklehrgang \n Anmelden \nLehrgangsleitung: Silvia Rothbart und Jasmin Meißl \nNähere Infos und Anmeldung ab sofort unter: info@jasmin-schuster.at & silvia.rothbart@chello.at oder 0664/8625216 & 0664/1520296.
URL:https://rothbart.at/event/human-design-paedagogik-modul2-23/
LOCATION:LAZ Hartberg\, Josef Hallamayrstraße 19\, Hartberg\, Steiermark\, 8230\, Österreich
CATEGORIES:Weiterbildungen
ATTACH;FMTTYPE=image/jpeg:https://rothbart.at/wordpress/wp-content/uploads/2016/09/2-kids.jpg
ORGANIZER;CN="Silvia%20Rothbart":MAILTO:silvia.rothbart@chello.at
END:VEVENT
END:VCALENDAR